BEGIN:VCALENDAR
VERSION:2.0
PRODID:icalendar-ruby
CALSCALE:GREGORIAN
METHOD:PUBLISH
BEGIN:VEVENT
DTSTAMP:20260421T083532Z
UID:5-999310@anmministry.org
DTSTART:20260913T160000Z
DTEND:20260913T170000Z
CLASS:PUBLIC
CREATED:20260420T193027
DESCRIPTION:Sunday Worship
LAST-MODIFIED:20260420T193027
LOCATION:
SUMMARY:Sunday Worship
URL;VALUE=URI:https://www.anmministry.org/events/sunday-worship/2026-09-13
END:VEVENT
END:VCALENDAR
